Package: RnBeads Version: 2.24.0 Command: /home/biocbuild/R/R/bin/R CMD build --keep-empty-dirs --no-resave-data RnBeads StartedAt: 2025-02-04 02:23:39 -0000 (Tue, 04 Feb 2025) EndedAt: 2025-02-04 02:26:40 -0000 (Tue, 04 Feb 2025) EllapsedTime: 181.2 seconds RetCode: 0 Status: OK PackageFile: RnBeads_2.24.0.tar.gz PackageFileSize: 7.546 MiB