Package: RnaSeqSampleSize Version: 2.16.0 Command: rm -rf RnaSeqSampleSize.buildbin-libdir && mkdir RnaSeqSampleSize.buildbin-libdir && /Users/biocbuild/BBS/utils/build-universal.sh RnaSeqSampleSize_2.16.0.tar.gz /Library/Frameworks/R.framework/Resources/bin/R RnaSeqSampleSize.buildbin-libdir StartedAt: 2025-02-01 16:36:03 -0500 (Sat, 01 Feb 2025) EndedAt: 2025-02-01 16:37:11 -0500 (Sat, 01 Feb 2025) EllapsedTime: 67.5 seconds RetCode: 0 Status: OK PackageFile: RnaSeqSampleSize_2.16.0.tgz PackageFileSize: 328.6 KiB