Package: RnaSeqSampleSize Version: 2.16.0 Command: /Library/Frameworks/R.framework/Resources/bin/R CMD build --keep-empty-dirs --no-resave-data RnaSeqSampleSize StartedAt: 2025-01-31 06:44:18 -0500 (Fri, 31 Jan 2025) EndedAt: 2025-01-31 06:46:19 -0500 (Fri, 31 Jan 2025) EllapsedTime: 121.6 seconds RetCode: 0 Status: OK PackageFile: RnaSeqSampleSize_2.16.0.tar.gz PackageFileSize: 234.7 KiB