Package: RnaSeqSampleSize Version: 2.16.0 Command: /Library/Frameworks/R.framework/Resources/bin/R CMD check --install=check:RnaSeqSampleSize.install-out.txt --library=/Library/Frameworks/R.framework/Resources/library --no-vignettes --timings RnaSeqSampleSize_2.16.0.tar.gz StartedAt: 2025-02-01 07:10:45 -0500 (Sat, 01 Feb 2025) EndedAt: 2025-02-01 07:17:38 -0500 (Sat, 01 Feb 2025) EllapsedTime: 413.0 seconds RetCode: 0 Status: OK CheckDir: RnaSeqSampleSize.Rcheck Warnings: 0