Package: RnaSeqSampleSize Version: 2.16.0 Command: /Library/Frameworks/R.framework/Resources/bin/R CMD INSTALL RnaSeqSampleSize StartedAt: 2025-01-30 18:19:49 -0500 (Thu, 30 Jan 2025) EndedAt: 2025-01-30 18:20:50 -0500 (Thu, 30 Jan 2025) EllapsedTime: 61.2 seconds RetCode: 0 Status: OK