Package: RnaSeqSampleSize Version: 2.16.0 Command: rm -rf RnaSeqSampleSize.buildbin-libdir && mkdir RnaSeqSampleSize.buildbin-libdir && /Users/biocbuild/BBS/utils/build-universal.sh RnaSeqSampleSize_2.16.0.tar.gz /Library/Frameworks/R.framework/Resources/bin/R RnaSeqSampleSize.buildbin-libdir StartedAt: 2024-11-09 17:08:42 -0500 (Sat, 09 Nov 2024) EndedAt: 2024-11-09 17:09:03 -0500 (Sat, 09 Nov 2024) EllapsedTime: 21.3 seconds RetCode: 0 Status: OK PackageFile: RnaSeqSampleSize_2.16.0.tgz PackageFileSize: 330.2 KiB