Package: RnaSeqSampleSize Version: 2.16.0 Command: rm -rf RnaSeqSampleSize.buildbin-libdir && mkdir RnaSeqSampleSize.buildbin-libdir && /Users/biocbuild/BBS/utils/build-universal.sh RnaSeqSampleSize_2.16.0.tar.gz /Library/Frameworks/R.framework/Resources/bin/R RnaSeqSampleSize.buildbin-libdir StartedAt: 2025-01-31 13:33:34 -0500 (Fri, 31 Jan 2025) EndedAt: 2025-01-31 13:35:30 -0500 (Fri, 31 Jan 2025) EllapsedTime: 115.7 seconds RetCode: 0 Status: OK PackageFile: RnaSeqSampleSize_2.16.0.tgz PackageFileSize: 329.7 KiB