Package: RnaSeqSampleSize Version: 2.16.0 Command: /Library/Frameworks/R.framework/Resources/bin/R CMD build --keep-empty-dirs --no-resave-data RnaSeqSampleSize StartedAt: 2025-01-30 22:21:12 -0500 (Thu, 30 Jan 2025) EndedAt: 2025-01-30 22:24:51 -0500 (Thu, 30 Jan 2025) EllapsedTime: 219.6 seconds RetCode: 0 Status: OK PackageFile: RnaSeqSampleSize_2.16.0.tar.gz PackageFileSize: 234.6 KiB