Package: RnaSeqSampleSize Version: 2.16.0 Command: /Library/Frameworks/R.framework/Resources/bin/R CMD INSTALL RnaSeqSampleSize StartedAt: 2025-01-30 16:45:28 -0500 (Thu, 30 Jan 2025) EndedAt: 2025-01-30 16:47:22 -0500 (Thu, 30 Jan 2025) EllapsedTime: 113.6 seconds RetCode: 0 Status: OK