Package: RnaSeqSampleSize Version: 2.16.0 Command: /home/biocbuild/bbs-3.20-bioc/R/bin/R CMD build --keep-empty-dirs --no-resave-data --md5 RnaSeqSampleSize StartedAt: 2025-01-30 18:53:16 -0500 (Thu, 30 Jan 2025) EndedAt: 2025-01-30 18:54:55 -0500 (Thu, 30 Jan 2025) EllapsedTime: 99.1 seconds RetCode: 0 Status: OK PackageFile: RnaSeqSampleSize_2.16.0.tar.gz PackageFileSize: 236 KiB