Package: RnaSeqSampleSize Version: 2.16.0 Command: F:\biocbuild\bbs-3.20-bioc\R\bin\R.exe CMD INSTALL RnaSeqSampleSize StartedAt: 2025-01-30 16:57:01 -0500 (Thu, 30 Jan 2025) EndedAt: 2025-01-30 16:58:27 -0500 (Thu, 30 Jan 2025) EllapsedTime: 85.7 seconds RetCode: 0 Status: OK