Package: RnaSeqSampleSize Version: 2.16.0 Command: /home/biocbuild/R/R/bin/R CMD build --keep-empty-dirs --no-resave-data RnaSeqSampleSize StartedAt: 2025-01-31 02:15:19 -0000 (Fri, 31 Jan 2025) EndedAt: 2025-01-31 02:18:05 -0000 (Fri, 31 Jan 2025) EllapsedTime: 166.2 seconds RetCode: 0 Status: OK PackageFile: RnaSeqSampleSize_2.16.0.tar.gz PackageFileSize: 226.6 KiB