Package: RnaSeqSampleSize Version: 2.16.0 Command: /home/biocbuild/R/R/bin/R CMD check --install=check:RnaSeqSampleSize.install-out.txt --library=/home/biocbuild/R/R/site-library --no-vignettes --timings RnaSeqSampleSize_2.16.0.tar.gz StartedAt: 2025-01-31 09:50:21 -0000 (Fri, 31 Jan 2025) EndedAt: 2025-01-31 09:57:43 -0000 (Fri, 31 Jan 2025) EllapsedTime: 441.4 seconds RetCode: 0 Status: OK CheckDir: RnaSeqSampleSize.Rcheck Warnings: 0