Package: Rnits Version: 1.40.0 Command: /Library/Frameworks/R.framework/Resources/bin/R CMD build --keep-empty-dirs --no-resave-data Rnits StartedAt: 2025-02-04 06:55:30 -0500 (Tue, 04 Feb 2025) EndedAt: 2025-02-04 06:57:15 -0500 (Tue, 04 Feb 2025) EllapsedTime: 104.6 seconds RetCode: 0 Status: OK PackageFile: Rnits_1.40.0.tar.gz PackageFileSize: 654.6 KiB