Package: Rnits Version: 1.40.0 Command: /home/biocbuild/bbs-3.20-bioc/R/bin/R CMD build --keep-empty-dirs --no-resave-data --md5 Rnits StartedAt: 2025-02-03 19:03:01 -0500 (Mon, 03 Feb 2025) EndedAt: 2025-02-03 19:04:13 -0500 (Mon, 03 Feb 2025) EllapsedTime: 72.0 seconds RetCode: 0 Status: OK PackageFile: Rnits_1.40.0.tar.gz PackageFileSize: 656.7 KiB