Package: Rnits Version: 1.40.0 Command: /home/biocbuild/bbs-3.20-bioc/R/bin/R CMD check --install=check:Rnits.install-out.txt --library=/home/biocbuild/bbs-3.20-bioc/R/site-library --timings Rnits_1.40.0.tar.gz StartedAt: 2025-02-04 01:54:45 -0500 (Tue, 04 Feb 2025) EndedAt: 2025-02-04 01:56:46 -0500 (Tue, 04 Feb 2025) EllapsedTime: 121.1 seconds RetCode: 0 Status: WARNINGS CheckDir: Rnits.Rcheck Warnings: 1