Package: Rnits Version: 1.40.0 Command: F:\biocbuild\bbs-3.20-bioc\R\bin\R.exe CMD check --no-multiarch --install=check:Rnits.install-out.txt --library=F:\biocbuild\bbs-3.20-bioc\R\library --no-vignettes --timings Rnits_1.40.0.tar.gz StartedAt: 2025-01-31 05:51:54 -0500 (Fri, 31 Jan 2025) EndedAt: 2025-01-31 05:53:11 -0500 (Fri, 31 Jan 2025) EllapsedTime: 77.1 seconds RetCode: 0 Status: WARNINGS CheckDir: Rnits.Rcheck Warnings: 1