Package: RolDE Version: 1.10.0 Command: /Library/Frameworks/R.framework/Resources/bin/R CMD build --keep-empty-dirs --no-resave-data RolDE StartedAt: 2025-02-11 06:54:12 -0500 (Tue, 11 Feb 2025) EndedAt: 2025-02-11 06:54:52 -0500 (Tue, 11 Feb 2025) EllapsedTime: 40.0 seconds RetCode: 0 Status: OK PackageFile: RolDE_1.10.0.tar.gz PackageFileSize: 1.267 MiB