Package: RolDE Version: 1.10.0 Command: rm -rf RolDE.buildbin-libdir && mkdir RolDE.buildbin-libdir && /Users/biocbuild/BBS/utils/build-universal.sh RolDE_1.10.0.tar.gz /Library/Frameworks/R.framework/Resources/bin/R RolDE.buildbin-libdir StartedAt: 2025-01-31 13:34:05 -0500 (Fri, 31 Jan 2025) EndedAt: 2025-01-31 13:34:54 -0500 (Fri, 31 Jan 2025) EllapsedTime: 48.7 seconds RetCode: 0 Status: OK PackageFile: RolDE_1.10.0.tgz PackageFileSize: 1.384 MiB