Package: RolDE Version: 1.10.0 Command: /Library/Frameworks/R.framework/Resources/bin/R CMD build --keep-empty-dirs --no-resave-data RolDE StartedAt: 2025-02-03 21:49:12 -0500 (Mon, 03 Feb 2025) EndedAt: 2025-02-03 21:50:25 -0500 (Mon, 03 Feb 2025) EllapsedTime: 73.0 seconds RetCode: 0 Status: OK PackageFile: RolDE_1.10.0.tar.gz PackageFileSize: 1.266 MiB