Package: RolDE Version: 1.10.0 Command: /Library/Frameworks/R.framework/Resources/bin/R CMD INSTALL RolDE StartedAt: 2025-02-03 15:51:37 -0500 (Mon, 03 Feb 2025) EndedAt: 2025-02-03 15:52:26 -0500 (Mon, 03 Feb 2025) EllapsedTime: 48.3 seconds RetCode: 0 Status: OK