Package: RolDE Version: 1.10.0 Command: /home/biocbuild/bbs-3.20-bioc/R/bin/R CMD build --keep-empty-dirs --no-resave-data --md5 RolDE StartedAt: 2025-02-03 19:03:35 -0500 (Mon, 03 Feb 2025) EndedAt: 2025-02-03 19:04:05 -0500 (Mon, 03 Feb 2025) EllapsedTime: 30.0 seconds RetCode: 0 Status: OK PackageFile: RolDE_1.10.0.tar.gz PackageFileSize: 1.26 MiB