Package: RolDE Version: 1.10.0 Command: /home/biocbuild/bbs-3.20-bioc/R/bin/R CMD INSTALL RolDE StartedAt: 2025-02-10 15:32:47 -0500 (Mon, 10 Feb 2025) EndedAt: 2025-02-10 15:33:07 -0500 (Mon, 10 Feb 2025) EllapsedTime: 19.6 seconds RetCode: 0 Status: OK