Package: Rqc Version: 1.40.0 Command: /Library/Frameworks/R.framework/Resources/bin/R CMD INSTALL Rqc StartedAt: 2025-02-10 15:56:01 -0500 (Mon, 10 Feb 2025) EndedAt: 2025-02-10 15:57:54 -0500 (Mon, 10 Feb 2025) EllapsedTime: 112.5 seconds RetCode: 0 Status: OK