Package: Rqc Version: 1.40.0 Command: /home/biocbuild/bbs-3.20-bioc/R/bin/R CMD check --install=check:Rqc.install-out.txt --library=/home/biocbuild/bbs-3.20-bioc/R/site-library --timings Rqc_1.40.0.tar.gz StartedAt: 2025-02-04 01:57:53 -0500 (Tue, 04 Feb 2025) EndedAt: 2025-02-04 02:04:17 -0500 (Tue, 04 Feb 2025) EllapsedTime: 384.4 seconds RetCode: 0 Status: OK CheckDir: Rqc.Rcheck Warnings: 0