Package: Rqc Version: 1.40.0 Command: rm -rf Rqc.buildbin-libdir && mkdir Rqc.buildbin-libdir && F:\biocbuild\bbs-3.20-bioc\R\bin\R.exe CMD INSTALL --build --library=Rqc.buildbin-libdir Rqc_1.40.0.tar.gz StartedAt: 2025-02-11 09:21:12 -0500 (Tue, 11 Feb 2025) EndedAt: 2025-02-11 09:22:24 -0500 (Tue, 11 Feb 2025) EllapsedTime: 72.2 seconds RetCode: 0 Status: OK PackageFile: Rqc_1.40.0.zip PackageFileSize: 1.048 MiB