Package: Rqc Version: 1.40.0 Command: chmod a+r Rqc -R && F:\biocbuild\bbs-3.20-bioc\R\bin\R.exe CMD build --keep-empty-dirs --no-resave-data Rqc StartedAt: 2025-02-10 21:41:39 -0500 (Mon, 10 Feb 2025) EndedAt: 2025-02-10 21:43:45 -0500 (Mon, 10 Feb 2025) EllapsedTime: 125.7 seconds RetCode: 0 Status: OK PackageFile: Rqc_1.40.0.tar.gz PackageFileSize: 628 KiB