Package: Rqc Version: 1.40.0 Command: F:\biocbuild\bbs-3.20-bioc\R\bin\R.exe CMD INSTALL Rqc StartedAt: 2025-02-03 17:05:54 -0500 (Mon, 03 Feb 2025) EndedAt: 2025-02-03 17:07:06 -0500 (Mon, 03 Feb 2025) EllapsedTime: 71.6 seconds RetCode: 0 Status: OK