Package: Rqc Version: 1.40.0 Command: /home/biocbuild/R/R/bin/R CMD check --install=check:Rqc.install-out.txt --library=/home/biocbuild/R/R/site-library --no-vignettes --timings Rqc_1.40.0.tar.gz StartedAt: 2025-02-04 10:35:40 -0000 (Tue, 04 Feb 2025) EndedAt: 2025-02-04 10:43:00 -0000 (Tue, 04 Feb 2025) EllapsedTime: 439.8 seconds RetCode: 0 Status: OK CheckDir: Rqc.Rcheck Warnings: 0