Package: Rqc Version: 1.40.0 Command: /home/biocbuild/R/R/bin/R CMD INSTALL Rqc StartedAt: 2025-02-03 20:56:24 -0000 (Mon, 03 Feb 2025) EndedAt: 2025-02-03 20:57:31 -0000 (Mon, 03 Feb 2025) EllapsedTime: 67.3 seconds RetCode: 0 Status: OK