Package: Rtpca Version: 1.16.0 Command: /Library/Frameworks/R.framework/Resources/bin/R CMD check --install=check:Rtpca.install-out.txt --library=/Library/Frameworks/R.framework/Resources/library --no-vignettes --timings Rtpca_1.16.0.tar.gz StartedAt: 2025-02-12 07:47:30 -0500 (Wed, 12 Feb 2025) EndedAt: 2025-02-12 07:48:40 -0500 (Wed, 12 Feb 2025) EllapsedTime: 69.9 seconds RetCode: 0 Status: OK CheckDir: Rtpca.Rcheck Warnings: 0