Package: Rtpca Version: 1.16.0 Command: /Library/Frameworks/R.framework/Resources/bin/R CMD check --install=check:Rtpca.install-out.txt --library=/Library/Frameworks/R.framework/Resources/library --no-vignettes --timings Rtpca_1.16.0.tar.gz StartedAt: 2025-02-04 09:21:15 -0500 (Tue, 04 Feb 2025) EndedAt: 2025-02-04 09:23:31 -0500 (Tue, 04 Feb 2025) EllapsedTime: 136.7 seconds RetCode: 0 Status: OK CheckDir: Rtpca.Rcheck Warnings: 0