Package: Rtpca Version: 1.16.0 Command: rm -rf Rtpca.buildbin-libdir && mkdir Rtpca.buildbin-libdir && F:\biocbuild\bbs-3.20-bioc\R\bin\R.exe CMD INSTALL --build --library=Rtpca.buildbin-libdir Rtpca_1.16.0.tar.gz StartedAt: 2025-02-04 09:24:19 -0500 (Tue, 04 Feb 2025) EndedAt: 2025-02-04 09:25:04 -0500 (Tue, 04 Feb 2025) EllapsedTime: 44.9 seconds RetCode: 0 Status: OK PackageFile: Rtpca_1.16.0.zip PackageFileSize: 2.276 MiB