Package: Rtpca Version: 1.16.0 Command: /home/biocbuild/R/R/bin/R CMD build --keep-empty-dirs --no-resave-data Rtpca StartedAt: 2025-02-04 02:29:50 -0000 (Tue, 04 Feb 2025) EndedAt: 2025-02-04 02:30:27 -0000 (Tue, 04 Feb 2025) EllapsedTime: 37.1 seconds RetCode: 0 Status: OK PackageFile: Rtpca_1.16.0.tar.gz PackageFileSize: 2.069 MiB