Package: Rtpca Version: 1.16.0 Command: /home/biocbuild/R/R/bin/R CMD check --install=check:Rtpca.install-out.txt --library=/home/biocbuild/R/R/site-library --no-vignettes --timings Rtpca_1.16.0.tar.gz StartedAt: 2025-02-04 10:39:03 -0000 (Tue, 04 Feb 2025) EndedAt: 2025-02-04 10:40:08 -0000 (Tue, 04 Feb 2025) EllapsedTime: 65.1 seconds RetCode: 0 Status: OK CheckDir: Rtpca.Rcheck Warnings: 0