Package: Rvisdiff Version: 1.4.0 Command: /Library/Frameworks/R.framework/Resources/bin/R CMD check --install=check:Rvisdiff.install-out.txt --library=/Library/Frameworks/R.framework/Resources/library --no-vignettes --timings Rvisdiff_1.4.0.tar.gz StartedAt: 2025-02-01 07:42:54 -0500 (Sat, 01 Feb 2025) EndedAt: 2025-02-01 07:45:58 -0500 (Sat, 01 Feb 2025) EllapsedTime: 184.0 seconds RetCode: 0 Status: OK CheckDir: Rvisdiff.Rcheck Warnings: 0