Package: Rvisdiff Version: 1.4.0 Command: /Library/Frameworks/R.framework/Resources/bin/R CMD INSTALL Rvisdiff StartedAt: 2025-02-10 15:09:19 -0500 (Mon, 10 Feb 2025) EndedAt: 2025-02-10 15:09:49 -0500 (Mon, 10 Feb 2025) EllapsedTime: 30.3 seconds RetCode: 0 Status: OK