Package: Rvisdiff Version: 1.4.0 Command: /home/biocbuild/bbs-3.20-bioc/R/bin/R CMD build --keep-empty-dirs --no-resave-data --md5 Rvisdiff StartedAt: 2025-02-10 18:58:59 -0500 (Mon, 10 Feb 2025) EndedAt: 2025-02-10 19:00:00 -0500 (Mon, 10 Feb 2025) EllapsedTime: 61.1 seconds RetCode: 0 Status: OK PackageFile: Rvisdiff_1.4.0.tar.gz PackageFileSize: 1.315 MiB