Package: Rvisdiff Version: 1.4.0 Command: /home/biocbuild/bbs-3.20-bioc/R/bin/R CMD INSTALL Rvisdiff StartedAt: 2025-02-10 15:15:34 -0500 (Mon, 10 Feb 2025) EndedAt: 2025-02-10 15:15:52 -0500 (Mon, 10 Feb 2025) EllapsedTime: 18.5 seconds RetCode: 0 Status: OK