Package: Rvisdiff Version: 1.3.0 Command: chmod a+r Rvisdiff -R && C:\Users\biocbuild\bbs-3.20-bioc\R\bin\R.exe CMD build --keep-empty-dirs --no-resave-data Rvisdiff StartedAt: 2024-07-15 20:33:09 -0400 (Mon, 15 Jul 2024) EndedAt: 2024-07-15 20:34:26 -0400 (Mon, 15 Jul 2024) EllapsedTime: 76.9 seconds RetCode: 0 Status: OK PackageFile: Rvisdiff_1.3.0.tar.gz PackageFileSize: 1.314 MiB