Package: Rvisdiff Version: 1.4.0 Command: /home/biocbuild/R/R/bin/R CMD build --keep-empty-dirs --no-resave-data Rvisdiff StartedAt: 2025-01-31 02:21:29 -0000 (Fri, 31 Jan 2025) EndedAt: 2025-01-31 02:22:48 -0000 (Fri, 31 Jan 2025) EllapsedTime: 79.1 seconds RetCode: 0 Status: OK PackageFile: Rvisdiff_1.4.0.tar.gz PackageFileSize: 1.378 MiB