Package: Rvisdiff Version: 1.4.0 Command: /home/biocbuild/R/R/bin/R CMD INSTALL Rvisdiff StartedAt: 2025-02-03 20:27:02 -0000 (Mon, 03 Feb 2025) EndedAt: 2025-02-03 20:27:35 -0000 (Mon, 03 Feb 2025) EllapsedTime: 33.2 seconds RetCode: 0 Status: OK