Package: S4Arrays Version: 1.6.0 Command: rm -rf S4Arrays.buildbin-libdir && mkdir S4Arrays.buildbin-libdir && /Users/biocbuild/BBS/utils/build-universal.sh S4Arrays_1.6.0.tar.gz /Library/Frameworks/R.framework/Resources/bin/R S4Arrays.buildbin-libdir StartedAt: 2025-02-05 17:36:28 -0500 (Wed, 05 Feb 2025) EndedAt: 2025-02-05 17:36:49 -0500 (Wed, 05 Feb 2025) EllapsedTime: 21.6 seconds RetCode: 0 Status: OK PackageFile: S4Arrays_1.6.0.tgz PackageFileSize: 1.001 MiB