Package: S4Arrays Version: 1.6.0 Command: /Library/Frameworks/R.framework/Resources/bin/R CMD build --keep-empty-dirs --no-resave-data S4Arrays StartedAt: 2025-02-04 07:09:00 -0500 (Tue, 04 Feb 2025) EndedAt: 2025-02-04 07:09:26 -0500 (Tue, 04 Feb 2025) EllapsedTime: 26.2 seconds RetCode: 0 Status: OK PackageFile: S4Arrays_1.6.0.tar.gz PackageFileSize: 279.7 KiB