Package: S4Arrays Version: 1.6.0 Command: /Library/Frameworks/R.framework/Resources/bin/R CMD INSTALL S4Arrays StartedAt: 2025-02-10 15:09:58 -0500 (Mon, 10 Feb 2025) EndedAt: 2025-02-10 15:10:16 -0500 (Mon, 10 Feb 2025) EllapsedTime: 18.7 seconds RetCode: 0 Status: OK