Package: S4Arrays Version: 1.6.0 Command: rm -rf S4Arrays.buildbin-libdir && mkdir S4Arrays.buildbin-libdir && /Users/biocbuild/BBS/utils/build-universal.sh S4Arrays_1.6.0.tar.gz /Library/Frameworks/R.framework/Resources/bin/R S4Arrays.buildbin-libdir StartedAt: 2025-01-31 13:35:59 -0500 (Fri, 31 Jan 2025) EndedAt: 2025-01-31 13:36:41 -0500 (Fri, 31 Jan 2025) EllapsedTime: 41.9 seconds RetCode: 0 Status: OK PackageFile: S4Arrays_1.6.0.tgz PackageFileSize: 1.001 MiB