Package: S4Arrays Version: 1.6.0 Command: rm -rf S4Arrays.buildbin-libdir && mkdir S4Arrays.buildbin-libdir && F:\biocbuild\bbs-3.20-bioc\R\bin\R.exe CMD INSTALL --build --library=S4Arrays.buildbin-libdir S4Arrays_1.6.0.tar.gz StartedAt: 2025-02-04 09:25:11 -0500 (Tue, 04 Feb 2025) EndedAt: 2025-02-04 09:26:39 -0500 (Tue, 04 Feb 2025) EllapsedTime: 88.3 seconds RetCode: 0 Status: OK PackageFile: S4Arrays_1.6.0.zip PackageFileSize: 1.006 MiB