Package: S4Arrays Version: 1.6.0 Command: /home/biocbuild/R/R/bin/R CMD INSTALL S4Arrays StartedAt: 2025-02-03 20:25:59 -0000 (Mon, 03 Feb 2025) EndedAt: 2025-02-03 20:26:26 -0000 (Mon, 03 Feb 2025) EllapsedTime: 27.2 seconds RetCode: 0 Status: OK