Package: S4Vectors Version: 0.44.0 Command: rm -rf S4Vectors.buildbin-libdir && mkdir S4Vectors.buildbin-libdir && /Users/biocbuild/BBS/utils/build-universal.sh S4Vectors_0.44.0.tar.gz /Library/Frameworks/R.framework/Resources/bin/R S4Vectors.buildbin-libdir StartedAt: 2025-02-05 17:36:29 -0500 (Wed, 05 Feb 2025) EndedAt: 2025-02-05 17:36:59 -0500 (Wed, 05 Feb 2025) EllapsedTime: 30.5 seconds RetCode: 0 Status: OK PackageFile: S4Vectors_0.44.0.tgz PackageFileSize: 2.411 MiB