Package: S4Vectors Version: 0.44.0 Command: /Library/Frameworks/R.framework/Resources/bin/R CMD build --keep-empty-dirs --no-resave-data S4Vectors StartedAt: 2025-02-04 07:09:20 -0500 (Tue, 04 Feb 2025) EndedAt: 2025-02-04 07:10:28 -0500 (Tue, 04 Feb 2025) EllapsedTime: 68.0 seconds RetCode: 0 Status: OK PackageFile: S4Vectors_0.44.0.tar.gz PackageFileSize: 1.001 MiB